BEGIN:VCALENDAR
PRODID:69e912b311cce
VERSION:2.0
METHOD:PUBLISH
BEGIN:VEVENT
DTSTART:20221107T230000
DTEND:20221109T230000
LOCATION:
TRANSP:OPAQUE
SEQUENCE:0
UID:69e912b311cce
DTSTAMP:20260422T182555Z
SUMMARY:Beweeg mee met het Digital Rhythm tijdens ICT &amp; Logistiek 2022
DESCRIPTION:Op 8, 9 en 10 november is Axians aanwezig op dé beurs voor professionals in logistiek. 
PRIORITY:1
CLASS:PUBLIC
BEGIN:VALARM
TRIGGER:-PT10080M
ACTION:DISPLAY
DESCRIPTION:Op 8, 9 en 10 november is Axians aanwezig op dé beurs voor professionals in logistiek. 
END:VALARM
END:VEVENT
END:VCALENDAR
